BEGIN:VCALENDAR
VERSION:2.0
PRODID:-//Tukios.com/
BEGIN:VEVENT
UID:9d09aff1-4b72-4563-b9f1-3bd442a3b998@www.dickeyfh.com
DTSTAMP:20260422T235921Z
DTSTART:20260426T200000Z
DTEND:20260426T220000Z
SUMMARY:Visitation
DESCRIPTION:
URL:https://www.dickeyfh.com/obituaries/elton-crust
LOCATION: 2401 East Mechanic St.  Harrisonville MO 64701
GEO:38.657291;-94.3273105
END:VEVENT
END:VCALENDAR