BEGIN:VCALENDAR
VERSION:2.0
PRODID:-//Tukios.com/
BEGIN:VEVENT
UID:b16661d2-2f17-4402-8bf0-cea21eb63855@www.dickeyfh.com
DTSTAMP:20260423T000146Z
DTSTART:20260427T180000Z
DTEND:20260427T190000Z
SUMMARY:Funeral Service
DESCRIPTION:
URL:https://www.dickeyfh.com/obituaries/elton-crust
LOCATION:Pleasant Hill Methodist Church 1300 Lexington Road  Pleasant 
	Hill MO 64080
GEO:38.8032311;-94.2599135
END:VEVENT
END:VCALENDAR