BEGIN:VCALENDAR
VERSION:2.0
PRODID:-//Tukios.com/
BEGIN:VEVENT
UID:145cc6af-3669-49a3-a3d2-c7bc6e225ca1@www.dickeyfh.com
DTSTAMP:20260422T003222Z
DTSTART:20260426T190000Z
DTEND:20260426T200000Z
SUMMARY:Celebration of Life
DESCRIPTION:
URL:https://www.dickeyfh.com/obituaries/marvin-hutchens
LOCATION:Frontier Village   Adrian MO 64720
GEO:38.397518;-94.3516159
END:VEVENT
END:VCALENDAR